BEGIN:VCALENDAR
VERSION:2.0
PRODID:-//VisitSacketsHarbor.com - Official Tourism Site for Sackets Harbor, NY - ECPv6.15.20//NONSGML v1.0//EN
CALSCALE:GREGORIAN
METHOD:PUBLISH
X-ORIGINAL-URL:https://visitsacketsharbor.com
X-WR-CALDESC:Events for VisitSacketsHarbor.com - Official Tourism Site for Sackets Harbor, NY
REFRESH-INTERVAL;VALUE=DURATION:PT1H
X-Robots-Tag:noindex
X-PUBLISHED-TTL:PT1H
BEGIN:VTIMEZONE
TZID:America/New_York
BEGIN:DAYLIGHT
TZOFFSETFROM:-0500
TZOFFSETTO:-0400
TZNAME:EDT
DTSTART:20250309T070000
END:DAYLIGHT
BEGIN:STANDARD
TZOFFSETFROM:-0400
TZOFFSETTO:-0500
TZNAME:EST
DTSTART:20251102T060000
END:STANDARD
BEGIN:DAYLIGHT
TZOFFSETFROM:-0500
TZOFFSETTO:-0400
TZNAME:EDT
DTSTART:20260308T070000
END:DAYLIGHT
BEGIN:STANDARD
TZOFFSETFROM:-0400
TZOFFSETTO:-0500
TZNAME:EST
DTSTART:20261101T060000
END:STANDARD
BEGIN:DAYLIGHT
TZOFFSETFROM:-0500
TZOFFSETTO:-0400
TZNAME:EDT
DTSTART:20270314T070000
END:DAYLIGHT
BEGIN:STANDARD
TZOFFSETFROM:-0400
TZOFFSETTO:-0500
TZNAME:EST
DTSTART:20271107T060000
END:STANDARD
END:VTIMEZONE
BEGIN:VEVENT
DTSTART;TZID=America/New_York:20260430T183000
DTEND;TZID=America/New_York:20260430T203000
DTSTAMP:20260425T075518
CREATED:20260424T222610Z
LAST-MODIFIED:20260424T222718Z
UID:6192-1777573800-1777581000@visitsacketsharbor.com
SUMMARY:Reassessing the Battle of Sackets Harbor
DESCRIPTION:The Sackets Harbor Battlefield State Historic Site will present a talk by Archeologist Dr. Tim Abel on Reassessing the Militia’s Role in the Second Battle of Sackets Harbor on Thursday\, April 30\, at 6:30 pm\, at the (former) Union Hotel\, at 401 West Main Street. \nTim’s recent archeology work along Ambrose Street in Sackets Harbor reveals a very different story about the Militia’s right flank action on the Battlegrounds\, from the Horse Island landing site through the battle’s early stages on May 29\, 1813. We can now picture a sustained firefight through the forest on what is farmland for us today. This challenges the long-held narrative that the militia retreated in fear on that day. \nFor more information\, please contact the Battlefield at 315-646-3634 or visit the Sackets Harbor Battlefield State Historic Site website.
URL:https://visitsacketsharbor.com/event/reassessing-the-battle-apr-30-2026/
LOCATION:Union Hotel (former)\, 401 W Main St\, Sackets Harbor\, NY\, 13685\, United States
ATTACH;FMTTYPE=image/jpeg:https://visitsacketsharbor.com/wp-content/uploads/archeologist_stock_photo-rawpixel.jpg
ORGANIZER;CN="Sackets Harbor Battlefield State Historic Site":MAILTO:mailto:SacketsHarborBattlefieldSHS@parks.ny.gov
END:VEVENT
END:VCALENDAR